BEGIN:VCALENDAR
VERSION:2.0
PRODID:icalendar-ruby
CALSCALE:GREGORIAN
METHOD:PUBLISH
BEGIN:VEVENT
DTSTAMP:20260422T060441Z
UID:72-1036260@kingdomhi.com
DTSTART:20260425T180000Z
DTEND:20260425T230000Z
CLASS:PUBLIC
CREATED:20260421T164040
DESCRIPTION:Come and join us!
LAST-MODIFIED:20260421T164040
LOCATION:
SUMMARY:Hoe Wa'a Kick Off & Blessing
URL;VALUE=URI:https://kingdomhi.com/events/hoe-waa-kick-off-blessing/2026-0
 4-25
ATTACH;FILENAME=Hoe-Waa-Blessing.png;FMTTYPE=image/png:https://dq5pwpg1q8ru
 0.cloudfront.net/2026/04/22/02/40/40/a60eeb37-672f-489b-8a4c-4fbec691ee33/
 Hoe-Waa-Blessing.png
END:VEVENT
END:VCALENDAR
